BEGIN:VCALENDAR
VERSION:2.0
PRODID:-//ChamberMaster//Event Calendar 2.0//EN
METHOD:PUBLISH
X-PUBLISHED-TTL:P3D
REFRESH-INTERVAL:P3D
CALSCALE:GREGORIAN
BEGIN:VEVENT
DTSTART:20161020T213000Z
DTEND:20161020T223000Z
X-MICROSOFT-CDO-ALLDAYEVENT:FALSE
SUMMARY:2016 BIA Government Affairs Working Group Invitation
DESCRIPTION:On Thursday\, October 20\, 2016\, our Government Affairs Committee is hosting a "Government Affairs Working Group Reception" at the Plantation Golf and Country Club from 5:30 p.m. to 6:30 p.m. Carl Barraco\, Jr.\, BIA Government Affairs Chair\, and Mike Welch\, BIA Public Policy Director\, are arranging the event.\n\n\n\nThe purpose of the reception is to attract our members to the committee. I am encouraging you to attend and to identify members of your organizations to possibly join this important committee. In an informal setting of a reception we have invited one of our most ardent supporters\, Lee County Commissioner Cecil Pendergrass\, to give a brief overview of the role and influence of government on our industry and a discussion of the upcoming regulatory issues facing Lee County.\n\n\n\nPlease feel free to contact Mike Welch at 239-565-8450 or buildingissues@aol.com regarding this important meeting and by all means refer this invitation to any interested colleagues and associates.\n\n\n\nRegards\,\n\n\n\nDan Beiter\n\nBIA President
X-ALT-DESC;FMTTYPE=text/html:<br />\nOn <em>Thursday\, October 20\, 2016\, our Government Affairs Committee is hosting a &quot\;Government Affairs Working Group Reception&quot\; at the Plantation Golf and Country Club from 5:30 p.m. to 6:30 p.m</em>. Carl Barraco\, Jr.\, BIA Government Affairs Chair\, and Mike Welch\, BIA Public Policy Director\, are arranging the event.<br />\n<br />\nThe purpose of the reception is to attract our members to the committee. I am encouraging you to attend and to identify members of your organizations to possibly join this important committee. In an informal setting of a reception we have invited one of our most ardent supporters\, Lee County Commissioner Cecil Pendergrass\, to give a brief overview of the role and influence of government on our industry and a discussion of the upcoming regulatory issues facing Lee County.<br />\n<br />\nPlease feel free to contact Mike Welch at 239-565-8450 or <a href="mailto:buildingissues@aol.com">buildingissues@aol.com</a> regarding this important meeting and by all means refer this invitation to any interested colleagues and associates.<br />\n<br />\nRegards\,<br />\n<br />\nDan Beiter<br />\nBIA President
LOCATION:The Plantation Golf & Country Club 10500 Dartington Drive Fort Myers\, FL 33913
UID:e.9371.295
SEQUENCE:3
DTSTAMP:20260419T190537Z
URL:http://biafl.memberzone.com/events/details/2016-bia-government-affairs-working-group-invitation-295
END:VEVENT

END:VCALENDAR
