BEGIN:VCALENDAR
VERSION:2.0
PRODID:-//ChamberMaster//Event Calendar 2.0//EN
METHOD:PUBLISH
X-PUBLISHED-TTL:P3D
REFRESH-INTERVAL:P3D
CALSCALE:GREGORIAN
BEGIN:VEVENT
DTSTART:20161129T190000Z
DTEND:20161129T210000Z
X-MICROSOFT-CDO-ALLDAYEVENT:FALSE
SUMMARY:2016 Construction Services Selection Process
DESCRIPTION:CONSTRUCTION SERVICES SELECTION PROCESS\n\nREVIEW AND DISCUSSION\n\n\n\nNOVEMBER 29\, 2016\, 2:00 PM   4:00 PM\n\n\n\nLee County Public Education Center\n\n2855 Colonial Blvd.\n\nFort Myers\, FL 33966\n\n\n\nThe Procurement Services Department mission is to purchase the highest quality goods and services at the best value while protecting the integrity of District funds and adhering to policies and procedures. Effective January 1\, 2017\, Procurement Services will lead the selection process for construction related services.\n\n\n\nThe purpose of this meeting is to share and invite feedback on new District processes for selecting service providers for Continuing Contracts awarded in alignment with the Consultants' Competitive Negotiation Act (CCNA) (Section 287.055\, Florida Statutes)\, and also for selecting providers of construction services in accordance with the purchasing model known as Construction Manager at Risk (CMAR).\n\n\n\n[CLICK HERE TO DOWNLOAD] RFQ Selection Process Document   \n\n\n\n[CLICK HERE TO SUBMIT QUESTIONS] Prior to meeting
X-ALT-DESC;FMTTYPE=text/html:<br />\n<strong>CONSTRUCTION SERVICES SELECTION PROCESS<br />\nREVIEW AND DISCUSSION<br />\n<br />\nNOVEMBER 29\, 2016\, 2:00 PM &ndash\; 4:00 PM</strong><br />\n<br />\nLee County Public Education Center<br />\n2855 Colonial Blvd.<br />\nFort Myers\, FL 33966<br />\n<br />\nThe Procurement Services Department mission is to purchase the highest quality goods and services at the best value while protecting the integrity of District funds and adhering to policies and procedures. Effective January 1\, 2017\, Procurement Services will lead the selection process for construction related services.<br />\n<br />\nThe purpose of this meeting is to share and invite feedback on new District processes for selecting service providers for Continuing Contracts awarded in alignment with the Consultants&rsquo\; Competitive Negotiation Act (CCNA) (Section 287.055\, Florida Statutes)\, and also for selecting providers of construction services in accordance with the purchasing model known as Construction Manager at Risk (CMAR).<br />\n<br />\n<strong><a href="https://chambermaster.blob.core.windows.net/userfiles/UserFiles/chambers/9371/File/2016_publicpolicy/SDLCConstructionServicesSelectionProcess11-182.pdf">[CLICK HERE TO DOWNLOAD] RFQ Selection Process Document &gt\;&gt\;</a><br />\n<br />\n<a href="http://www.leeschools.net/construction-services-selection-process">[CLICK HERE TO SUBMIT QUESTIONS] Prior to meeting &gt\;&gt\;</a></strong>
LOCATION:Lee County Public Education Center 2855 Colonial Blvd. Fort Myers\, FL 33966
UID:e.9371.297
SEQUENCE:3
DTSTAMP:20260419T152726Z
URL:http://biafl.memberzone.com/events/details/2016-construction-services-selection-process-297
END:VEVENT

END:VCALENDAR
