BEGIN:VCALENDAR
VERSION:2.0
PRODID:-//ChamberMaster//Event Calendar 2.0//EN
METHOD:PUBLISH
X-PUBLISHED-TTL:P3D
REFRESH-INTERVAL:P3D
CALSCALE:GREGORIAN
BEGIN:VEVENT
DTSTART:20161013T123000Z
DTEND:20161013T133000Z
X-MICROSOFT-CDO-ALLDAYEVENT:FALSE
SUMMARY:Building Industry Oversight Committee (BIOC)
DESCRIPTION:BIOC is responsible for the oversight of the Building Department Enterprise Fund\, to assure that the department is well funded to meet the demand of permitting\, inspections and plan review. The committee members are by appointment\, but all industry professionals are welcomed to attend.
X-ALT-DESC;FMTTYPE=text/html:BIOC is responsible for the oversight of the Building Department Enterprise Fund\, to assure that the department is well funded to meet the demand of permitting\, inspections and plan review. The committee members are by appointment\, but all industry professionals are welcomed to attend.
LOCATION:Lee County Public Works Community Development Building 1500 Monroe Street - First Floor Conference Room Fort Myers
UID:e.9371.249
SEQUENCE:3
DTSTAMP:20260419T154042Z
URL:http://biafl.memberzone.com/events/details/building-industry-oversight-committee-bioc-10-13-2016-249
END:VEVENT

END:VCALENDAR
