BEGIN:VCALENDAR
VERSION:2.0
PRODID:-//ChamberMaster//Event Calendar 2.0//EN
METHOD:PUBLISH
X-PUBLISHED-TTL:P3D
REFRESH-INTERVAL:P3D
CALSCALE:GREGORIAN
BEGIN:VEVENT
DTSTART:20250327T200000Z
DTEND:20250327T220000Z
X-MICROSOFT-CDO-ALLDAYEVENT:FALSE
SUMMARY:Cocktails & Construction – Fort Myers
DESCRIPTION:Another exciting edition of Cocktails & Construction at 10 Twenty Five\, Fort Myers. A must-attend for professionals looking to network in a lively environment.
X-ALT-DESC;FMTTYPE=text/html:<span style="font-family:aptos\,sans-serif\;"><span style="font-size:12.0pt\;">Another exciting edition of Cocktails &amp\; Construction at 10 Twenty Five\, Fort Myers. A must-attend for professionals looking to network in a lively environment.</span></span>
LOCATION:
UID:e.9371.3052
SEQUENCE:3
DTSTAMP:20260423T063931Z
URL:http://biafl.memberzone.com/events/details/cocktails-construction-fort-myers-03-20-2025-3052
END:VEVENT

END:VCALENDAR
