BEGIN:VCALENDAR
VERSION:2.0
PRODID:-//ChamberMaster//Event Calendar 2.0//EN
METHOD:PUBLISH
X-PUBLISHED-TTL:P3D
REFRESH-INTERVAL:P3D
CALSCALE:GREGORIAN
BEGIN:VEVENT
DTSTART;VALUE=DATE:20160406
DTEND;VALUE=DATE:20160407
TRANSP:TRANSPARENT
X-MICROSOFT-CDO-ALLDAYEVENT:TRUE
SUMMARY:Commercial Contractors Council Luncheon
DESCRIPTION:
X-ALT-DESC;FMTTYPE=text/html:
LOCATION:12148 S. Cleveland Ave Fort Myers\, FL 33907
UID:e.9371.230
SEQUENCE:3
DTSTAMP:20260420T055404Z
URL:http://biafl.memberzone.com/events/details/commercial-contractors-council-luncheon-04-06-2016-230
END:VEVENT

END:VCALENDAR
